BEGIN:VCALENDAR
VERSION:2.0
PRODID:gruene-dossenheim.de
METHOD:PUBLISH
BEGIN:VTIMEZONE
TZID:Europe/Berlin
X-LIC-LOCATION:Europe/Berlin
BEGIN:DAYLIGHT
TZOFFSETFROM:+0100
TZOFFSETTO:+0200
TZNAME:CEST
DTSTART:19700329T020000
RRULE:FREQ=YEARLY;INTERVAL=1;BYDAY=-1SU;BYMONTH=3
END:DAYLIGHT
BEGIN:STANDARD
TZOFFSETFROM:+0200
TZOFFSETTO:+0100
TZNAME:CET
DTSTART:19701025T030000
RRULE:FREQ=YEARLY;INTERVAL=1;BYDAY=-1SU;BYMONTH=10
END:STANDARD
END:VTIMEZONE
BEGIN:VEVENT
UID:a0f8400d059fd96a17daa63eeca72088@gruene-dossenheim.de
URL;VALUE=URI:https://gruene-dossenheim.de/home/singleview/termine/windkr
 aft-im-wald-erfahrungsberichte-holger-marquardt/
LOCATION:Martin-Luther-Haus, Dossenheim
SUMMARY:Windkraft im Wald: Erfahrungsberichte – Holger Marquardt
DESCRIPTION;ALTREP="data:text/html,%0A%3Cp%3EEnergiestammtisch%20Freigeri
 cht%3C%2Fp%3E%0A%0A%0A%0A%3Cp%3E%3C%2Fp%3E%0A":Energiestammtisch Freigeri
 cht
CLASS:PUBLIC
DTSTART;TZID=Europe/Berlin:20250929T190000
DTEND;TZID=Europe/Berlin:20250929T200000
DTSTAMP:20260420T205658
END:VEVENT
END:VCALENDAR