BEGIN:VCALENDAR
VERSION:2.0
PRODID:gruene-dossenheim.de
METHOD:PUBLISH
BEGIN:VTIMEZONE
TZID:Europe/Berlin
X-LIC-LOCATION:Europe/Berlin
BEGIN:DAYLIGHT
TZOFFSETFROM:+0100
TZOFFSETTO:+0200
TZNAME:CEST
DTSTART:19700329T020000
RRULE:FREQ=YEARLY;INTERVAL=1;BYDAY=-1SU;BYMONTH=3
END:DAYLIGHT
BEGIN:STANDARD
TZOFFSETFROM:+0200
TZOFFSETTO:+0100
TZNAME:CET
DTSTART:19701025T030000
RRULE:FREQ=YEARLY;INTERVAL=1;BYDAY=-1SU;BYMONTH=10
END:STANDARD
END:VTIMEZONE
BEGIN:VEVENT
UID:758c6dfe05332dc70ef1728adbe7b2fa@gruene-dossenheim.de
URL;VALUE=URI:https://gruene-dossenheim.de/home/singleview/termine/windkr
 aft-im-wald-erfahrungsberichte-andreas-markowski/
LOCATION:Katholischer Pfarrsaal Schriesheim, 69198 Schriesheim
SUMMARY:Windkraft im Wald: Erfahrungsberichte – Andreas Markowski
DESCRIPTION;ALTREP="data:text/html,%0A%3Cp%3EGr%C3%BCnder%20%C3%96kostrom
 %20Freiburg%3C%2Fp%3E%0A%0A%0A%0A%3Cp%3E%3C%2Fp%3E%0A":Gründer Ökostrom
  Freiburg
CLASS:PUBLIC
DTSTART;TZID=Europe/Berlin:20250922T190000
DTEND;TZID=Europe/Berlin:20250922T200000
DTSTAMP:20260420T210340
END:VEVENT
END:VCALENDAR