BEGIN:VCALENDAR
VERSION:2.0
PRODID:gruene-dossenheim.de
METHOD:PUBLISH
BEGIN:VTIMEZONE
TZID:Europe/Berlin
X-LIC-LOCATION:Europe/Berlin
BEGIN:DAYLIGHT
TZOFFSETFROM:+0100
TZOFFSETTO:+0200
TZNAME:CEST
DTSTART:19700329T020000
RRULE:FREQ=YEARLY;INTERVAL=1;BYDAY=-1SU;BYMONTH=3
END:DAYLIGHT
BEGIN:STANDARD
TZOFFSETFROM:+0200
TZOFFSETTO:+0100
TZNAME:CET
DTSTART:19701025T030000
RRULE:FREQ=YEARLY;INTERVAL=1;BYDAY=-1SU;BYMONTH=10
END:STANDARD
END:VTIMEZONE
BEGIN:VEVENT
UID:9142bb60447f78be6fd6ac0244176247@gruene-dossenheim.de
URL;VALUE=URI:https://gruene-dossenheim.de/home/singleview/termine/treffe
 n-des-ortsverbands-2025-10/
LOCATION:Fraktionszimmer, Rathausplatz, Dossenheim
SUMMARY:Treffen des Ortsverbands – Oktober 2025
DESCRIPTION;ALTREP="data:text/html,%0A%3Cp%3EAlle%20Mitglieder%20des%20Or
 tsverbands%20und%20solche%20die%20es%20werden%20wollen%20sind%20%C2%A0%E2
 %9D%A4%EF%B8%8F%20willkommen%21%3C%2Fp%3E%0A%0A%0A%0A%3Cp%3EWir%20treffen
 %20uns%20im%C2%A0%3Cstrong%3EFraktionszimmer%20des%20Rathauses%3C%2Fstron
 g%3E%20%28Eingang%20neben%20Gemeindeb%C3%BCcherei%29.%3C%2Fp%3E%0A":Alle 
 Mitglieder des Ortsverbands und solche die es werden wollen sind  ❤️
  willkommen!\n\nWir treffen uns im Fraktionszimmer des Rathauses (Eingan
 g neben Gemeindebücherei).
CLASS:PUBLIC
DTSTART;TZID=Europe/Berlin:20251010T190000
DTEND;TZID=Europe/Berlin:20251010T203000
DTSTAMP:20260421T003450
END:VEVENT
END:VCALENDAR