BEGIN:VCALENDAR
VERSION:2.0
PRODID:gruene-dossenheim.de
METHOD:PUBLISH
BEGIN:VTIMEZONE
TZID:Europe/Berlin
X-LIC-LOCATION:Europe/Berlin
BEGIN:DAYLIGHT
TZOFFSETFROM:+0100
TZOFFSETTO:+0200
TZNAME:CEST
DTSTART:19700329T020000
RRULE:FREQ=YEARLY;INTERVAL=1;BYDAY=-1SU;BYMONTH=3
END:DAYLIGHT
BEGIN:STANDARD
TZOFFSETFROM:+0200
TZOFFSETTO:+0100
TZNAME:CET
DTSTART:19701025T030000
RRULE:FREQ=YEARLY;INTERVAL=1;BYDAY=-1SU;BYMONTH=10
END:STANDARD
END:VTIMEZONE
BEGIN:VEVENT
UID:44d0d8a19b713fb0ab123570de7407e1@gruene-dossenheim.de
URL;VALUE=URI:https://gruene-dossenheim.de/home/singleview/termine/gruene
 r-spaziergang-mit-franziska/
LOCATION:Rathausplatz, Dossenheim
SUMMARY:Grüner Spaziergang vom Weinberg zum frida.
DESCRIPTION;ALTREP="data:text/html,%0A%3Cp%3E%3Cbr%3ESave%20the%20Date%3A
 %20Die%20auf%20unserer%20Homepage%20zun%C3%A4chst%20f%C3%BCr%20den%209.%2
 0Mai%20angek%C3%BCndigte%20diesj%C3%A4hrige%20Gr%C3%BCne%20Wanderung%20ve
 rschiebt%20sich%20auf%20%3Cstrong%3EFreitag%2C%20den%2015.%20Mai%2018%20U
 hr%3C%2Fstrong%3E%20und%20wird%20dieses%20Jahr%20zum%20%3Cstrong%3EGr%C3%
 BCnen%20Spaziergang%20vom%20Weinberg%20zum%20frida.%3C%2Fstrong%3E%20mit%
 20unserer%20Bundesvorsitzenden%20%3Cstrong%3EFranziska%20Brantner%3C%2Fst
 rong%3E%20MdB%21%20N%C3%A4heres%20demn%C3%A4chst%20hier%20und%20auf%20uns
 eren%20Online-Kan%C3%A4len.%3C%2Fp%3E%0A":Save the Date: Die auf unserer 
 Homepage zunächst für den 9. Mai angekündigte diesjährige Grüne Wand
 erung verschiebt sich auf Freitag\, den 15. Mai 18 Uhr und wird dieses Ja
 hr zum Grünen Spaziergang vom Weinberg zum frida. mit unserer Bundesvors
 itzenden Franziska Brantner MdB! Näheres demnächst hier und auf unseren
  Online-Kanälen.
CLASS:PUBLIC
DTSTART;TZID=Europe/Berlin:20260515T180000
DTEND;TZID=Europe/Berlin:20260515T190000
DTSTAMP:20260422T150206
END:VEVENT
END:VCALENDAR