BEGIN:VCALENDAR
VERSION:2.0
PRODID:gruene-dossenheim.de
METHOD:PUBLISH
BEGIN:VTIMEZONE
TZID:Europe/Berlin
X-LIC-LOCATION:Europe/Berlin
BEGIN:DAYLIGHT
TZOFFSETFROM:+0100
TZOFFSETTO:+0200
TZNAME:CEST
DTSTART:19700329T020000
RRULE:FREQ=YEARLY;INTERVAL=1;BYDAY=-1SU;BYMONTH=3
END:DAYLIGHT
BEGIN:STANDARD
TZOFFSETFROM:+0200
TZOFFSETTO:+0100
TZNAME:CET
DTSTART:19701025T030000
RRULE:FREQ=YEARLY;INTERVAL=1;BYDAY=-1SU;BYMONTH=10
END:STANDARD
END:VTIMEZONE
BEGIN:VEVENT
UID:205a68b04f4f173ff0ed8d5da26b8862@gruene-dossenheim.de
URL;VALUE=URI:https://gruene-dossenheim.de/home/singleview/termine/gespra
 ech-energieversorgung-an-der-bergstrasse/
LOCATION:Kleines Haus, Pfarrgasse 5, Dossenheim
SUMMARY:Gespräch Energieversorgung an der Bergstraße
DESCRIPTION;ALTREP="data:text/html,%0A%3Cp%3EWie%20kann%20die%20Energiewe
 nde%20konkret%20in%20den%20Kommunen%20umgesetzt%20werden%3F%20Welche%20Ro
 lle%20spielen%20dabei%20Politik%2C%20innovative%20Projekte%20und%20die%20
 aktive%20Beteiligung%20der%20B%C3%BCrgerinnen%20und%20B%C3%BCrger%3F%20Di
 ese%20Fragen%20stehen%20im%20Mittelpunkt%20einer%20%C3%B6ffentlichen%20Ve
 ranstaltung%2C%20zu%20der%20unsere%20gr%C3%BCne%20Landtagsabgeordnete%20u
 nd%20Kreisvorsitzende%26nbsp%3B%3Cstrong%3EFadime%20Tuncer%3C%2Fstrong%3E
 %26nbsp%3Bins%3Cstrong%3E%26nbsp%3BKleine%20Haus%3C%2Fstrong%3E%26nbsp%3B
 einl%C3%A4dt%20%28das%20Kleine%20Haus%20steht%20an%20der%20Ecke%20Pfarrga
 sse%2FBachstra%C3%9Fe%2C%20der%20Eingang%20ist%20gegen%C3%BCber%20der%20S
 eniorenbegegnungsst%C3%A4tte%29.%3C%2Fp%3E%0A%0A%0A%0A%3Cfigure%20class%3
 D%22wp-block-embed%20is-type-wp-embed%20is-provider-ortsverband-dossenhei
 m%20wp-block-embed-ortsverband-dossenheim%22%3E%3Cdiv%20class%3D%22wp-blo
 ck-embed__wrapper%22%3E%0Ahttps%3A%2F%2Fgruene-dossenheim.de%2Fhome%2Fsin
 gleview%2Ftermine%2Fgespraech-energieversorgung-an-der-bergstrasse%2F%0A%
 3C%2Fdiv%3E%3C%2Ffigure%3E%0A":Wie kann die Energiewende konkret in den K
 ommunen umgesetzt werden? Welche Rolle spielen dabei Politik\, innovative
  Projekte und die aktive Beteiligung der Bürgerinnen und Bürger? Diese 
 Fragen stehen im Mittelpunkt einer öffentlichen Veranstaltung\, zu der u
 nsere grüne Landtagsabgeordnete und Kreisvorsitzende Fadime Tuncer ins
  Kleine Haus einlädt (das Kleine Haus steht an der Ecke Pfarrgasse/Bac
 hstraße\, der Eingang ist gegenüber der Seniorenbegegnungsstätte).\n\n
 https://gruene-dossenheim.de/home/singleview/termine/gespraech-energiever
 sorgung-an-der-bergstrasse/
CLASS:PUBLIC
DTSTART;TZID=Europe/Berlin:20251006T200000
DTEND;TZID=Europe/Berlin:20251006T210000
DTSTAMP:20260420T185830
END:VEVENT
END:VCALENDAR